BEGIN:VCALENDAR
VERSION:2.0
PRODID:-//Aiea - ECPv6.15.3//NONSGML v1.0//EN
CALSCALE:GREGORIAN
METHOD:PUBLISH
X-WR-CALNAME:Aiea
X-ORIGINAL-URL:https://aiea.it
X-WR-CALDESC:Eventi per Aiea
REFRESH-INTERVAL;VALUE=DURATION:PT1H
X-Robots-Tag:noindex
X-PUBLISHED-TTL:PT1H
BEGIN:VTIMEZONE
TZID:Europe/Rome
BEGIN:DAYLIGHT
TZOFFSETFROM:+0100
TZOFFSETTO:+0200
TZNAME:CEST
DTSTART:20250330T010000
END:DAYLIGHT
BEGIN:STANDARD
TZOFFSETFROM:+0200
TZOFFSETTO:+0100
TZNAME:CET
DTSTART:20251026T010000
END:STANDARD
BEGIN:DAYLIGHT
TZOFFSETFROM:+0100
TZOFFSETTO:+0200
TZNAME:CEST
DTSTART:20260329T010000
END:DAYLIGHT
BEGIN:STANDARD
TZOFFSETFROM:+0200
TZOFFSETTO:+0100
TZNAME:CET
DTSTART:20261025T010000
END:STANDARD
END:VTIMEZONE
BEGIN:VEVENT
DTSTART;TZID=Europe/Rome:20251006T080000
DTEND;TZID=Europe/Rome:20251007T170000
DTSTAMP:20260419T180304
CREATED:20250522T194136Z
LAST-MODIFIED:20250926T134433Z
UID:10000270-1759737600-1759856400@aiea.it
SUMMARY:XXXIX Convegno Nazionale AIEA - 6 e 7 ottobre 2025
DESCRIPTION:La singolarità si avvicina? Parliamone al prossimo Convegno nazionale\, che si terrà il prossimo 6 e 7 ottobre nella sede del SIAM a Milano. Tra i relatori annoveriamo: \n\nL’Agenzia per la Cybersicurezza Nazionale (ACN)\nABILab\nCERTFin\nUniversità di Milano e Siena\n\nLe sessioni principali verteranno su Intelligenza Artificiale\, Resilienza e Cybersecurity. \nVai all’iscrizione\nConsulta il programma \nScarica l’app per dispositivi Apple
URL:https://aiea.it/evento/convegno2025/
CATEGORIES:Convegni
ATTACH;FMTTYPE=image/png:https://aiea.it/wp-content/uploads/2025/05/flyer.png
END:VEVENT
BEGIN:VEVENT
DTSTART;TZID=Europe/Rome:20251030T140000
DTEND;TZID=Europe/Rome:20251030T180000
DTSTAMP:20260419T180304
CREATED:20250403T135737Z
LAST-MODIFIED:20250517T031447Z
UID:10000266-1761832800-1761847200@aiea.it
SUMMARY:Sessione di studio a Reggio Emilia (in presenza e online) - GARANTE 2: Quale approccio per i futuri controlli?
DESCRIPTION:Sessione di studio a Reggio Emilia (in presenza e online) \n \n 
URL:https://aiea.it/evento/reggio-emilia-30102025/
LOCATION:Officine CREDEM – Parco Innovazione\, Capannone 17\, Piazzale Europa\, 1\, Reggio nell'Emilia\, RE\, 42124\, Italy
CATEGORIES:Sessioni di Studio
END:VEVENT
BEGIN:VEVENT
DTSTART;TZID=Europe/Rome:20251112T140000
DTEND;TZID=Europe/Rome:20251112T180000
DTSTAMP:20260419T180304
CREATED:20250403T135805Z
LAST-MODIFIED:20251028T103647Z
UID:10000267-1762956000-1762970400@aiea.it
SUMMARY:[CANCELLATA] Save the date - Sessione di studio a Milano (in presenza e online)
DESCRIPTION:Save the date – Sessione di studio a Milano (in presenza e online)
URL:https://aiea.it/evento/save-the-date-sessione-di-studio-a-milano-in-presenza-e-online-3/
CATEGORIES:Sessioni di Studio
END:VEVENT
BEGIN:VEVENT
DTSTART;TZID=Europe/Rome:20251125T140000
DTEND;TZID=Europe/Rome:20251125T180000
DTSTAMP:20260419T180304
CREATED:20250403T135832Z
LAST-MODIFIED:20251105T083132Z
UID:10000268-1764079200-1764093600@aiea.it
SUMMARY:Sessione di studio a Torino (in presenza e online) - AI & Etica
DESCRIPTION:Sessione di studio a Torino (in presenza e online) \nGuarda la locandina dell’evento. \nLocandina_SdS_Torino_25112025_v2.0
URL:https://aiea.it/evento/torino-25112025/
LOCATION:Grattacielo Intesa San Paolo\, Corso Inghilterra 3\, Torino\, Italia
CATEGORIES:Sessioni di Studio
ATTACH;FMTTYPE=image/png:https://aiea.it/wp-content/uploads/2025/05/Immagine_SdS_Torino_25112025-1.png
END:VEVENT
BEGIN:VEVENT
DTSTART;TZID=Europe/Rome:20251204T140000
DTEND;TZID=Europe/Rome:20251204T180000
DTSTAMP:20260419T180304
CREATED:20251028T103834Z
LAST-MODIFIED:20251120T172923Z
UID:10000272-1764856800-1764871200@aiea.it
SUMMARY:Sessione di studio a Siena - Quantum Security
DESCRIPTION:
URL:https://aiea.it/evento/save-the-date-sessione-di-studio-a-siena-quantum-cyber-security/
LOCATION:Università di Siena\, DSFTA – Sezione di Fisica\, via Roma\, 56\, Siena\, Italy
CATEGORIES:Sessioni di Studio
ATTACH;FMTTYPE=image/png:https://aiea.it/wp-content/uploads/2025/10/Immagine_SdS_Siena_04122025_v2.png
END:VEVENT
BEGIN:VEVENT
DTSTART;TZID=Europe/Rome:20251215T140000
DTEND;TZID=Europe/Rome:20251215T180000
DTSTAMP:20260419T180304
CREATED:20250403T135849Z
LAST-MODIFIED:20250403T140337Z
UID:10000269-1765807200-1765821600@aiea.it
SUMMARY:Save the date - Sessione di studio a Milano (in presenza e online)
DESCRIPTION:Save the date – Sessione di studio a Milano (in presenza e online)
URL:https://aiea.it/evento/save-the-date-sessione-di-studio-a-milano-in-presenza-e-online-4/
CATEGORIES:Sessioni di Studio
END:VEVENT
BEGIN:VEVENT
DTSTART;TZID=Europe/Rome:20261012T080000
DTEND;TZID=Europe/Rome:20261013T170000
DTSTAMP:20260419T180304
CREATED:20260313T075748Z
LAST-MODIFIED:20260313T080138Z
UID:10000273-1791792000-1791910800@aiea.it
SUMMARY:Save the date: XL Convegno AIEA - 12 e 13 ottobre 2026
DESCRIPTION:
URL:https://aiea.it/evento/save-the-date-xl-convegno-aiea-12-e-13-ottobre-2026/
LOCATION:Auditorium Giovanni Testori – Palazzo Lombardia\, Piazza città di Lombardia\, Milano\, 20124\, Italy
CATEGORIES:Convegni
ATTACH;FMTTYPE=image/jpeg:https://aiea.it/wp-content/uploads/2026/03/WhatsApp-Image-2026-03-11-at-16.27.42.jpeg
END:VEVENT
END:VCALENDAR