BEGIN:VCALENDAR
VERSION:2.0
PRODID:-//Aiea - ECPv6.15.3//NONSGML v1.0//EN
CALSCALE:GREGORIAN
METHOD:PUBLISH
X-WR-CALNAME:Aiea
X-ORIGINAL-URL:https://aiea.it
X-WR-CALDESC:Eventi per Aiea
REFRESH-INTERVAL;VALUE=DURATION:PT1H
X-Robots-Tag:noindex
X-PUBLISHED-TTL:PT1H
BEGIN:VTIMEZONE
TZID:Europe/Rome
BEGIN:DAYLIGHT
TZOFFSETFROM:+0100
TZOFFSETTO:+0200
TZNAME:CEST
DTSTART:20160327T010000
END:DAYLIGHT
BEGIN:STANDARD
TZOFFSETFROM:+0200
TZOFFSETTO:+0100
TZNAME:CET
DTSTART:20161030T010000
END:STANDARD
BEGIN:DAYLIGHT
TZOFFSETFROM:+0100
TZOFFSETTO:+0200
TZNAME:CEST
DTSTART:20170326T010000
END:DAYLIGHT
BEGIN:STANDARD
TZOFFSETFROM:+0200
TZOFFSETTO:+0100
TZNAME:CET
DTSTART:20171029T010000
END:STANDARD
END:VTIMEZONE
BEGIN:VEVENT
DTSTART;VALUE=DATE:20160422
DTEND;VALUE=DATE:20160424
DTSTAMP:20260420T004410
CREATED:20240509T093426Z
LAST-MODIFIED:20240509T093426Z
UID:10000147-1461290400-1461376799@aiea.it
SUMMARY:Sessione di Studio - Milano
DESCRIPTION:
URL:https://aiea.it/evento/sessione-di-studio-milano-32/
LOCATION:Sala Convegni Unicredit\, Via Tupini 180\, Roma\, Italia
CATEGORIES:Sessioni di Studio
END:VEVENT
BEGIN:VEVENT
DTSTART;VALUE=DATE:20160511
DTEND;VALUE=DATE:20160513
DTSTAMP:20260420T004411
CREATED:20240509T093358Z
LAST-MODIFIED:20240509T093358Z
UID:10000146-1462932000-1463018399@aiea.it
SUMMARY:Sessione di Studio - Torino
DESCRIPTION:
URL:https://aiea.it/evento/sessione-di-studio-torino-35/
LOCATION:Collegio Univeristario Renato Einaudi – Sezione Crocetta\, Corso Lione 24\, Torino\, 10141\, Italia
CATEGORIES:Sessioni di Studio
END:VEVENT
BEGIN:VEVENT
DTSTART;VALUE=DATE:20160530
DTEND;VALUE=DATE:20160601
DTSTAMP:20260420T004411
CREATED:20240509T093321Z
LAST-MODIFIED:20240509T093321Z
UID:10000145-1464573600-1464659999@aiea.it
SUMMARY:Sessione di Studio - Milano
DESCRIPTION:
URL:https://aiea.it/evento/sessione-di-studio-milano-31/
LOCATION:Sala Convegni Unicredit\, Via Tupini 180\, Roma\, Italia
CATEGORIES:Sessioni di Studio
END:VEVENT
BEGIN:VEVENT
DTSTART;VALUE=DATE:20160614
DTEND;VALUE=DATE:20160616
DTSTAMP:20260420T004411
CREATED:20240509T093258Z
LAST-MODIFIED:20240509T093258Z
UID:10000144-1465869600-1465955999@aiea.it
SUMMARY:Sessione di Studio - Torino
DESCRIPTION:
URL:https://aiea.it/evento/sessione-di-studio-torino-34/
LOCATION:Collegio Univeristario Renato Einaudi – Sezione Crocetta\, Corso Lione 24\, Torino\, 10141\, Italia
CATEGORIES:Sessioni di Studio
END:VEVENT
BEGIN:VEVENT
DTSTART;VALUE=DATE:20160615
DTEND;VALUE=DATE:20160617
DTSTAMP:20260420T004411
CREATED:20240509T093222Z
LAST-MODIFIED:20240509T093222Z
UID:10000143-1465956000-1466042399@aiea.it
SUMMARY:Sessione di Studio - Roma
DESCRIPTION:
URL:https://aiea.it/evento/sessione-di-studio-roma-17/
LOCATION:HSPI Spa – Galleria Esedra\, Viale Vittorio Emanuele Orlando\, 75\, Roma\, Italia
CATEGORIES:Sessioni di Studio
END:VEVENT
BEGIN:VEVENT
DTSTART;VALUE=DATE:20160624
DTEND;VALUE=DATE:20160626
DTSTAMP:20260420T004411
CREATED:20240606T135149Z
LAST-MODIFIED:20240606T135149Z
UID:10000168-1466733600-1466819999@aiea.it
SUMMARY:Sessione di Studio - Roma
DESCRIPTION:
URL:https://aiea.it/evento/sessione-di-studio-roma-19/
CATEGORIES:Sessioni di Studio
END:VEVENT
BEGIN:VEVENT
DTSTART;VALUE=DATE:20160624
DTEND;VALUE=DATE:20160626
DTSTAMP:20260420T004411
CREATED:20240509T093136Z
LAST-MODIFIED:20240509T093136Z
UID:10000142-1466733600-1466819999@aiea.it
SUMMARY:Sessione di Studio - Milano
DESCRIPTION:
URL:https://aiea.it/evento/sessione-di-studio-milano-30/
LOCATION:Sala Convegni Unicredit\, Via Tupini 180\, Roma\, Italia
CATEGORIES:Sessioni di Studio
END:VEVENT
BEGIN:VEVENT
DTSTART;VALUE=DATE:20161005
DTEND;VALUE=DATE:20161007
DTSTAMP:20260420T004411
CREATED:20240509T093048Z
LAST-MODIFIED:20240509T093109Z
UID:10000141-1475632800-1475719199@aiea.it
SUMMARY:Sessione di Studio - Roma
DESCRIPTION:
URL:https://aiea.it/evento/sessione-di-studio-roma-16/
LOCATION:HSPI Spa – Galleria Esedra\, Viale Vittorio Emanuele Orlando\, 75\, Roma\, Italia
CATEGORIES:Sessioni di Studio
END:VEVENT
BEGIN:VEVENT
DTSTART;VALUE=DATE:20161028
DTEND;VALUE=DATE:20161030
DTSTAMP:20260420T004411
CREATED:20240509T093022Z
LAST-MODIFIED:20240509T093022Z
UID:10000140-1477620000-1477706399@aiea.it
SUMMARY:Sessione di Studio - Torino
DESCRIPTION:
URL:https://aiea.it/evento/sessione-di-studio-torino-33/
LOCATION:Collegio Univeristario Renato Einaudi – Sezione Crocetta\, Corso Lione 24\, Torino\, 10141\, Italia
CATEGORIES:Sessioni di Studio
END:VEVENT
BEGIN:VEVENT
DTSTART;VALUE=DATE:20161107
DTEND;VALUE=DATE:20161109
DTSTAMP:20260420T004411
CREATED:20240509T092916Z
LAST-MODIFIED:20240509T092916Z
UID:10000139-1478480400-1478566799@aiea.it
SUMMARY:Sessione di Studio - Lugano
DESCRIPTION:
URL:https://aiea.it/evento/sessione-di-studio-lugano-9/
LOCATION:Lugano\, Lugano\, Svizzera
CATEGORIES:Sessioni di Studio
END:VEVENT
BEGIN:VEVENT
DTSTART;VALUE=DATE:20161109
DTEND;VALUE=DATE:20161111
DTSTAMP:20260420T004411
CREATED:20240509T092837Z
LAST-MODIFIED:20240509T092837Z
UID:10000138-1478653200-1478739599@aiea.it
SUMMARY:Sessione di Studio - Roma
DESCRIPTION:
URL:https://aiea.it/evento/sessione-di-studio-roma-15/
LOCATION:KPMG\, via Ettore Petrolini 2\, Roma\, Italia
CATEGORIES:Sessioni di Studio
END:VEVENT
BEGIN:VEVENT
DTSTART;VALUE=DATE:20161125
DTEND;VALUE=DATE:20161127
DTSTAMP:20260420T004411
CREATED:20240509T092728Z
LAST-MODIFIED:20240509T092728Z
UID:10000137-1480035600-1480121999@aiea.it
SUMMARY:Sessione di Studio - Torino
DESCRIPTION:
URL:https://aiea.it/evento/sessione-di-studio-torino-32/
LOCATION:Collegio Univeristario Renato Einaudi – Sezione Crocetta\, Corso Lione 24\, Torino\, 10141\, Italia
CATEGORIES:Sessioni di Studio
END:VEVENT
BEGIN:VEVENT
DTSTART;VALUE=DATE:20161128
DTEND;VALUE=DATE:20161130
DTSTAMP:20260420T004411
CREATED:20240509T092633Z
LAST-MODIFIED:20240509T092633Z
UID:10000136-1480294800-1480381199@aiea.it
SUMMARY:Sessione di Studio - Milano
DESCRIPTION:
URL:https://aiea.it/evento/sessione-di-studio-milano-29/
LOCATION:Sala Convegni Unicredit\, Via Tupini 180\, Roma\, Italia
CATEGORIES:Sessioni di Studio
END:VEVENT
BEGIN:VEVENT
DTSTART;VALUE=DATE:20161130
DTEND;VALUE=DATE:20161202
DTSTAMP:20260420T004411
CREATED:20240509T090448Z
LAST-MODIFIED:20240509T092304Z
UID:10000135-1480467600-1480553999@aiea.it
SUMMARY:Sessione di Studio - Roma
DESCRIPTION:
URL:https://aiea.it/evento/sessione-di-studio-roma-14/
LOCATION:HSPI Spa – Galleria Esedra\, Viale Vittorio Emanuele Orlando\, 75\, Roma\, Italia
CATEGORIES:Sessioni di Studio
END:VEVENT
BEGIN:VEVENT
DTSTART;VALUE=DATE:20161216
DTEND;VALUE=DATE:20161218
DTSTAMP:20260420T004411
CREATED:20240509T090206Z
LAST-MODIFIED:20240509T090206Z
UID:10000134-1481850000-1481936399@aiea.it
SUMMARY:Sessione di Studio - Milano
DESCRIPTION:
URL:https://aiea.it/evento/sessione-di-studio-milano-28/
LOCATION:Sala Convegni Unicredit\, Via Tupini 180\, Roma\, Italia
CATEGORIES:Sessioni di Studio
END:VEVENT
BEGIN:VEVENT
DTSTART;VALUE=DATE:20170116
DTEND;VALUE=DATE:20170118
DTSTAMP:20260420T004411
CREATED:20240419T153200Z
LAST-MODIFIED:20240419T153200Z
UID:10000133-1484528400-1484614799@aiea.it
SUMMARY:Sessione di Studio - Lugano
DESCRIPTION:
URL:https://aiea.it/evento/sessione-di-studio-lugano-8/
LOCATION:Lugano\, Lugano\, Svizzera
CATEGORIES:Sessioni di Studio
END:VEVENT
BEGIN:VEVENT
DTSTART;VALUE=DATE:20170127
DTEND;VALUE=DATE:20170129
DTSTAMP:20260420T004411
CREATED:20240419T153132Z
LAST-MODIFIED:20240419T153132Z
UID:10000132-1485478800-1485565199@aiea.it
SUMMARY:Sessione di Studio - Torino
DESCRIPTION:
URL:https://aiea.it/evento/sessione-di-studio-torino-31/
LOCATION:Collegio Univeristario Renato Einaudi – Sezione Crocetta\, Corso Lione 24\, Torino\, 10141\, Italia
CATEGORIES:Sessioni di Studio
END:VEVENT
BEGIN:VEVENT
DTSTART;VALUE=DATE:20170223
DTEND;VALUE=DATE:20170225
DTSTAMP:20260420T004411
CREATED:20240419T153107Z
LAST-MODIFIED:20240419T153116Z
UID:10000131-1487811600-1487897999@aiea.it
SUMMARY:Sessione di Studio - Milano
DESCRIPTION:
URL:https://aiea.it/evento/sessione-di-studio-milano-27/
LOCATION:Auditorium UniCredit Services\, Via Livio Cambi 1\, Milano\, 20151\, Italia
CATEGORIES:Sessioni di Studio
END:VEVENT
BEGIN:VEVENT
DTSTART;VALUE=DATE:20170308
DTEND;VALUE=DATE:20170310
DTSTAMP:20260420T004411
CREATED:20240419T153038Z
LAST-MODIFIED:20240419T153047Z
UID:10000130-1488934800-1489021199@aiea.it
SUMMARY:Sessione di Studio - Roma
DESCRIPTION:
URL:https://aiea.it/evento/sessione-di-studio-roma-13/
LOCATION:Hewlett Packard Enterprise\, Via Achille Campanile 85\, Roma\, Italia
CATEGORIES:Sessioni di Studio
END:VEVENT
BEGIN:VEVENT
DTSTART;VALUE=DATE:20170331
DTEND;VALUE=DATE:20170402
DTSTAMP:20260420T004411
CREATED:20240419T152815Z
LAST-MODIFIED:20240419T152815Z
UID:10000128-1490925600-1491011999@aiea.it
SUMMARY:Sessione di Studio - Torino
DESCRIPTION:
URL:https://aiea.it/evento/sessione-di-studio-torino-30/
LOCATION:Collegio Univeristario Renato Einaudi – Sezione Crocetta\, Corso Lione 24\, Torino\, 10141\, Italia
CATEGORIES:Sessioni di Studio
END:VEVENT
BEGIN:VEVENT
DTSTART;VALUE=DATE:20170407
DTEND;VALUE=DATE:20170409
DTSTAMP:20260420T004411
CREATED:20240419T152749Z
LAST-MODIFIED:20240419T152749Z
UID:10000127-1491530400-1491616799@aiea.it
SUMMARY:Sessione di Studio - Milano
DESCRIPTION:
URL:https://aiea.it/evento/sessione-di-studio-milano-26/
LOCATION:Auditorium UniCredit Services\, Via Livio Cambi 1\, Milano\, 20151\, Italia
CATEGORIES:Sessioni di Studio
END:VEVENT
BEGIN:VEVENT
DTSTART;VALUE=DATE:20170512
DTEND;VALUE=DATE:20170514
DTSTAMP:20260420T004411
CREATED:20240419T152727Z
LAST-MODIFIED:20240419T152727Z
UID:10000126-1494554400-1494640799@aiea.it
SUMMARY:Sessione di Studio - Milano
DESCRIPTION:
URL:https://aiea.it/evento/sessione-di-studio-milano-25/
LOCATION:Auditorium UniCredit Services\, Via Livio Cambi 1\, Milano\, 20151\, Italia
CATEGORIES:Sessioni di Studio
END:VEVENT
BEGIN:VEVENT
DTSTART;VALUE=DATE:20170525
DTEND;VALUE=DATE:20170527
DTSTAMP:20260420T004411
CREATED:20240419T152655Z
LAST-MODIFIED:20240419T152655Z
UID:10000125-1495677600-1495763999@aiea.it
SUMMARY:Sessione di Studio - Roma
DESCRIPTION:
URL:https://aiea.it/evento/sessione-di-studio-roma-12/
LOCATION:Hotel Nord Nuova Roma\, Via Giovanni Amendola 3\, Roma\, Italia
CATEGORIES:Sessioni di Studio
END:VEVENT
BEGIN:VEVENT
DTSTART;VALUE=DATE:20170526
DTEND;VALUE=DATE:20170528
DTSTAMP:20260420T004411
CREATED:20240419T152628Z
LAST-MODIFIED:20240419T152628Z
UID:10000124-1495764000-1495850399@aiea.it
SUMMARY:Sessione di Studio - Torino
DESCRIPTION:
URL:https://aiea.it/evento/sessione-di-studio-torino-29/
LOCATION:Collegio Univeristario Renato Einaudi – Sezione Crocetta\, Corso Lione 24\, Torino\, 10141\, Italia
CATEGORIES:Sessioni di Studio
END:VEVENT
BEGIN:VEVENT
DTSTART;VALUE=DATE:20170612
DTEND;VALUE=DATE:20170614
DTSTAMP:20260420T004411
CREATED:20240419T152550Z
LAST-MODIFIED:20240419T152601Z
UID:10000123-1497232800-1497319199@aiea.it
SUMMARY:Sessione di Studio - Milano
DESCRIPTION:
URL:https://aiea.it/evento/sessione-di-studio-milano-24/
LOCATION:Auditorium UniCredit Services\, Via Livio Cambi 1\, Milano\, 20151\, Italia
CATEGORIES:Sessioni di Studio
END:VEVENT
BEGIN:VEVENT
DTSTART;VALUE=DATE:20170630
DTEND;VALUE=DATE:20170702
DTSTAMP:20260420T004411
CREATED:20240419T152531Z
LAST-MODIFIED:20240419T152531Z
UID:10000122-1498788000-1498874399@aiea.it
SUMMARY:Sessione di Studio - Torino
DESCRIPTION:
URL:https://aiea.it/evento/sessione-di-studio-torino-28/
LOCATION:Collegio Univeristario Renato Einaudi – Sezione Crocetta\, Corso Lione 24\, Torino\, 10141\, Italia
CATEGORIES:Sessioni di Studio
END:VEVENT
BEGIN:VEVENT
DTSTART;VALUE=DATE:20170922
DTEND;VALUE=DATE:20170924
DTSTAMP:20260420T004411
CREATED:20240419T152507Z
LAST-MODIFIED:20240419T152507Z
UID:10000121-1506045600-1506131999@aiea.it
SUMMARY:Sessione di Studio - Trento
DESCRIPTION:
URL:https://aiea.it/evento/sessione-di-studio-trento-2/
LOCATION:Polo Universitario delle Professioni Sanitarie\, Via Briamasco 2\, Trento\, Italia
CATEGORIES:Sessioni di Studio
END:VEVENT
BEGIN:VEVENT
DTSTART;VALUE=DATE:20171027
DTEND;VALUE=DATE:20171029
DTSTAMP:20260420T004411
CREATED:20240419T152347Z
LAST-MODIFIED:20240419T152347Z
UID:10000120-1509069600-1509155999@aiea.it
SUMMARY:Sessione di Studio - Torino
DESCRIPTION:
URL:https://aiea.it/evento/sessione-di-studio-torino-27/
LOCATION:Collegio Univeristario Renato Einaudi – Sezione Crocetta\, Corso Lione 24\, Torino\, 10141\, Italia
CATEGORIES:Sessioni di Studio
END:VEVENT
BEGIN:VEVENT
DTSTART;VALUE=DATE:20171106
DTEND;VALUE=DATE:20171108
DTSTAMP:20260420T004411
CREATED:20240419T152325Z
LAST-MODIFIED:20240419T152325Z
UID:10000119-1509930000-1510016399@aiea.it
SUMMARY:Sessione di Studio - Lugano
DESCRIPTION:
URL:https://aiea.it/evento/sessione-di-studio-lugano-7/
LOCATION:Hotel Dante\, Piazza Cioccaro 5\, Lugano\, Svizzera
CATEGORIES:Sessioni di Studio
END:VEVENT
BEGIN:VEVENT
DTSTART;VALUE=DATE:20171124
DTEND;VALUE=DATE:20171126
DTSTAMP:20260420T004411
CREATED:20240419T152256Z
LAST-MODIFIED:20240419T152256Z
UID:10000118-1511485200-1511571599@aiea.it
SUMMARY:Sessione di Studio - Torino
DESCRIPTION:
URL:https://aiea.it/evento/sessione-di-studio-torino-26/
LOCATION:Collegio Univeristario Renato Einaudi – Sezione Crocetta\, Corso Lione 24\, Torino\, 10141\, Italia
CATEGORIES:Sessioni di Studio
END:VEVENT
END:VCALENDAR