BEGIN:VCALENDAR
VERSION:2.0
PRODID:-//Aiea - ECPv6.15.3//NONSGML v1.0//EN
CALSCALE:GREGORIAN
METHOD:PUBLISH
X-ORIGINAL-URL:https://aiea.it
X-WR-CALDESC:Eventi per Aiea
REFRESH-INTERVAL;VALUE=DURATION:PT1H
X-Robots-Tag:noindex
X-PUBLISHED-TTL:PT1H
BEGIN:VTIMEZONE
TZID:Europe/Rome
BEGIN:DAYLIGHT
TZOFFSETFROM:+0100
TZOFFSETTO:+0200
TZNAME:CEST
DTSTART:20150329T010000
END:DAYLIGHT
BEGIN:STANDARD
TZOFFSETFROM:+0200
TZOFFSETTO:+0100
TZNAME:CET
DTSTART:20151025T010000
END:STANDARD
BEGIN:DAYLIGHT
TZOFFSETFROM:+0100
TZOFFSETTO:+0200
TZNAME:CEST
DTSTART:20160327T010000
END:DAYLIGHT
BEGIN:STANDARD
TZOFFSETFROM:+0200
TZOFFSETTO:+0100
TZNAME:CET
DTSTART:20161030T010000
END:STANDARD
END:VTIMEZONE
BEGIN:VEVENT
DTSTART;VALUE=DATE:20150417
DTEND;VALUE=DATE:20150419
DTSTAMP:20260419T211107
CREATED:20240607T081751Z
LAST-MODIFIED:20240607T081751Z
UID:10000175-1429236000-1429322399@aiea.it
SUMMARY:Sessione di Studio - Milano
DESCRIPTION:
URL:https://aiea.it/evento/sessione-di-studio-milano-38/
LOCATION:Sala Convegni Unicredit\, Via Tupini 180\, Roma\, Italia
CATEGORIES:Sessioni di Studio
END:VEVENT
BEGIN:VEVENT
DTSTART;VALUE=DATE:20150423
DTEND;VALUE=DATE:20150425
DTSTAMP:20260419T211107
CREATED:20240607T081731Z
LAST-MODIFIED:20240607T081731Z
UID:10000174-1429754400-1429840799@aiea.it
SUMMARY:Sessione di Studio - Roma
DESCRIPTION:
URL:https://aiea.it/evento/sessione-di-studio-roma-22/
CATEGORIES:Sessioni di Studio
END:VEVENT
BEGIN:VEVENT
DTSTART;VALUE=DATE:20150522
DTEND;VALUE=DATE:20150524
DTSTAMP:20260419T211107
CREATED:20240607T081659Z
LAST-MODIFIED:20240607T081659Z
UID:10000173-1432260000-1432346399@aiea.it
SUMMARY:Sessione di Studio - Milano
DESCRIPTION:
URL:https://aiea.it/evento/sessione-di-studio-milano-37/
LOCATION:Sala Convegni Unicredit\, Via Tupini 180\, Roma\, Italia
CATEGORIES:Sessioni di Studio
END:VEVENT
BEGIN:VEVENT
DTSTART;VALUE=DATE:20150528
DTEND;VALUE=DATE:20150530
DTSTAMP:20260419T211107
CREATED:20240607T081633Z
LAST-MODIFIED:20240607T081633Z
UID:10000172-1432778400-1432864799@aiea.it
SUMMARY:Sessione di Studio - Torino
DESCRIPTION:
URL:https://aiea.it/evento/sessione-di-studio-torino-41/
LOCATION:Collegio Univeristario Renato Einaudi – Sezione Crocetta\, Corso Lione 24\, Torino\, 10141\, Italia
CATEGORIES:Sessioni di Studio
END:VEVENT
BEGIN:VEVENT
DTSTART;VALUE=DATE:20150529
DTEND;VALUE=DATE:20150531
DTSTAMP:20260419T211107
CREATED:20240606T135714Z
LAST-MODIFIED:20240606T135714Z
UID:10000171-1432864800-1432951199@aiea.it
SUMMARY:Sessione di Studio - Roma
DESCRIPTION:
URL:https://aiea.it/evento/sessione-di-studio-roma-21/
CATEGORIES:Sessioni di Studio
END:VEVENT
BEGIN:VEVENT
DTSTART;VALUE=DATE:20150619
DTEND;VALUE=DATE:20150621
DTSTAMP:20260419T211107
CREATED:20240606T135635Z
LAST-MODIFIED:20240606T135635Z
UID:10000170-1434679200-1434765599@aiea.it
SUMMARY:Sessione di Studio - Milano
DESCRIPTION:
URL:https://aiea.it/evento/sessione-di-studio-milano-36/
LOCATION:Sala Convegni Unicredit\, Via Tupini 180\, Roma\, Italia
CATEGORIES:Sessioni di Studio
END:VEVENT
BEGIN:VEVENT
DTSTART;VALUE=DATE:20150624
DTEND;VALUE=DATE:20150626
DTSTAMP:20260419T211107
CREATED:20240606T135218Z
LAST-MODIFIED:20240606T135332Z
UID:10000169-1435111200-1435197599@aiea.it
SUMMARY:Sessione di Studio - Roma
DESCRIPTION:
URL:https://aiea.it/evento/sessione-di-studio-roma-20/
LOCATION:Sala Convegni Unicredit\, Via Tupini 180\, Roma\, Italia
CATEGORIES:Sessioni di Studio
END:VEVENT
BEGIN:VEVENT
DTSTART;VALUE=DATE:20150918
DTEND;VALUE=DATE:20150920
DTSTAMP:20260419T211107
CREATED:20240606T135108Z
LAST-MODIFIED:20240606T135108Z
UID:10000167-1442541600-1442627999@aiea.it
SUMMARY:Sessione di Studio - Milano
DESCRIPTION:
URL:https://aiea.it/evento/sessione-di-studio-milano-35/
LOCATION:Sala Convegni Unicredit\, Via Tupini 180\, Roma\, Italia
CATEGORIES:Sessioni di Studio
END:VEVENT
BEGIN:VEVENT
DTSTART;VALUE=DATE:20150924
DTEND;VALUE=DATE:20150926
DTSTAMP:20260419T211107
CREATED:20240606T135038Z
LAST-MODIFIED:20240606T135038Z
UID:10000166-1443060000-1443146399@aiea.it
SUMMARY:Sessione di Studio - Torino
DESCRIPTION:
URL:https://aiea.it/evento/sessione-di-studio-torino-40/
LOCATION:Collegio Univeristario Renato Einaudi – Sezione Crocetta\, Corso Lione 24\, Torino\, 10141\, Italia
CATEGORIES:Sessioni di Studio
END:VEVENT
BEGIN:VEVENT
DTSTART;VALUE=DATE:20150925
DTEND;VALUE=DATE:20150927
DTSTAMP:20260419T211107
CREATED:20240606T135007Z
LAST-MODIFIED:20240606T135007Z
UID:10000165-1443146400-1443232799@aiea.it
SUMMARY:Sessione di Studio Trento
DESCRIPTION:
URL:https://aiea.it/evento/sessione-di-studio-trento-3/
LOCATION:Polo Universitario delle Professioni Sanitarie\, Via Briamasco 2\, Trento\, Italia
CATEGORIES:Sessioni di Studio
END:VEVENT
BEGIN:VEVENT
DTSTART;VALUE=DATE:20151028
DTEND;VALUE=DATE:20151030
DTSTAMP:20260419T211107
CREATED:20240606T134717Z
LAST-MODIFIED:20240606T134717Z
UID:10000164-1445994000-1446080399@aiea.it
SUMMARY:Sessione di Studio Roma - in collaborazione con HSPI\, P4i\, OptionFactory
DESCRIPTION:
URL:https://aiea.it/evento/sessione-di-studio-roma-in-collaborazione-con-hspi-p4i-optionfactory/
LOCATION:HSPI Spa – Galleria Esedra\, Viale Vittorio Emanuele Orlando\, 75\, Roma\, Italia
CATEGORIES:Sessioni di Studio
END:VEVENT
BEGIN:VEVENT
DTSTART;VALUE=DATE:20151029
DTEND;VALUE=DATE:20151031
DTSTAMP:20260419T211107
CREATED:20240606T134531Z
LAST-MODIFIED:20240606T134604Z
UID:10000163-1446080400-1446166799@aiea.it
SUMMARY:Sessione di Studio in collazione con Cefriel - Milano
DESCRIPTION:
URL:https://aiea.it/evento/sessione-di-studio-in-collazione-con-cefriel-milano/
LOCATION:Cefriel\, Via Renato Fucini 2\, Milanno\, Italia
CATEGORIES:Sessioni di Studio
END:VEVENT
BEGIN:VEVENT
DTSTART;VALUE=DATE:20151120
DTEND;VALUE=DATE:20151122
DTSTAMP:20260419T211107
CREATED:20240606T134400Z
LAST-MODIFIED:20240606T134400Z
UID:10000161-1447981200-1448067599@aiea.it
SUMMARY:Milano - Sessione di Studio congiunta con L'international Association of Privacy Professionals (IAPP)
DESCRIPTION:
URL:https://aiea.it/evento/milano-sessione-di-studio-congiunta-con-linternational-association-of-privacy-professionals-iapp/
LOCATION:Sala Convegni Unicredit\, Via Tupini 180\, Roma\, Italia
CATEGORIES:Sessioni di Studio
END:VEVENT
BEGIN:VEVENT
DTSTART;VALUE=DATE:20151127
DTEND;VALUE=DATE:20151129
DTSTAMP:20260419T211107
CREATED:20240606T133730Z
LAST-MODIFIED:20240606T133730Z
UID:10000160-1448586000-1448672399@aiea.it
SUMMARY:Sessione di Studio - Torino
DESCRIPTION:
URL:https://aiea.it/evento/sessione-di-studio-torino-38/
LOCATION:Collegio Univeristario Renato Einaudi – Sezione Crocetta\, Corso Lione 24\, Torino\, 10141\, Italia
CATEGORIES:Sessioni di Studio
END:VEVENT
BEGIN:VEVENT
DTSTART;VALUE=DATE:20151130
DTEND;VALUE=DATE:20151202
DTSTAMP:20260419T211107
CREATED:20240606T133418Z
LAST-MODIFIED:20240606T133418Z
UID:10000159-1448845200-1448931599@aiea.it
SUMMARY:Sessione di Studio - Lugano - anche in Streaming (Soci AIEA)
DESCRIPTION:
URL:https://aiea.it/evento/sessione-di-studio-lugano-anche-in-streaming-soci-aiea/
LOCATION:Manno\, Gentro Galleria 2\, Lugano\, Svizzera
CATEGORIES:Sessioni di Studio
END:VEVENT
BEGIN:VEVENT
DTSTART;VALUE=DATE:20151216
DTEND;VALUE=DATE:20151218
DTSTAMP:20260419T211107
CREATED:20240606T133227Z
LAST-MODIFIED:20240606T133506Z
UID:10000158-1450227600-1450313999@aiea.it
SUMMARY:Sessione di Studio Roma - in collaborazione con Ernest & Young\, Selex ES e PwC
DESCRIPTION:
URL:https://aiea.it/evento/sessione-di-studio-roma-in-collaborazione-con-ernest-young-selex-es-e-pwc/
LOCATION:HSPI Spa – Galleria Esedra\, Viale Vittorio Emanuele Orlando\, 75\, Roma\, Italia
CATEGORIES:Sessioni di Studio
END:VEVENT
BEGIN:VEVENT
DTSTART;VALUE=DATE:20151218
DTEND;VALUE=DATE:20151220
DTSTAMP:20260419T211107
CREATED:20240606T133154Z
LAST-MODIFIED:20240606T133154Z
UID:10000157-1450400400-1450486799@aiea.it
SUMMARY:Sessione di Studio - Milano
DESCRIPTION:
URL:https://aiea.it/evento/sessione-di-studio-milano-34/
LOCATION:Sala Convegni Unicredit\, Via Tupini 180\, Roma\, Italia
CATEGORIES:Sessioni di Studio
END:VEVENT
BEGIN:VEVENT
DTSTART;VALUE=DATE:20160201
DTEND;VALUE=DATE:20160203
DTSTAMP:20260419T211107
CREATED:20240606T132908Z
LAST-MODIFIED:20240606T132908Z
UID:10000155-1454288400-1454374799@aiea.it
SUMMARY:Sessione di Studio - Lugano
DESCRIPTION:
URL:https://aiea.it/evento/sessione-di-studio-lugano-10/
LOCATION:Hotel Maraini\, Via Massagno 36\, Lugano\, Svizzera
CATEGORIES:Sessioni di Studio
END:VEVENT
BEGIN:VEVENT
DTSTART;VALUE=DATE:20160226
DTEND;VALUE=DATE:20160228
DTSTAMP:20260419T211107
CREATED:20240606T132951Z
LAST-MODIFIED:20240606T132951Z
UID:10000156-1456448400-1456534799@aiea.it
SUMMARY:Sessione di Studio - Milano
DESCRIPTION:
URL:https://aiea.it/evento/sessione-di-studio-milano-33/
LOCATION:Sala Convegni Unicredit\, Via Tupini 180\, Roma\, Italia
CATEGORIES:Sessioni di Studio
END:VEVENT
BEGIN:VEVENT
DTSTART;VALUE=DATE:20160304
DTEND;VALUE=DATE:20160306
DTSTAMP:20260419T211107
CREATED:20240606T134440Z
LAST-MODIFIED:20240606T134440Z
UID:10000162-1457053200-1457139599@aiea.it
SUMMARY:Sessione di Studio - Torino
DESCRIPTION:
URL:https://aiea.it/evento/sessione-di-studio-torino-39/
LOCATION:Collegio Univeristario Renato Einaudi – Sezione Crocetta\, Corso Lione 24\, Torino\, 10141\, Italia
CATEGORIES:Sessioni di Studio
END:VEVENT
BEGIN:VEVENT
DTSTART;VALUE=DATE:20160304
DTEND;VALUE=DATE:20160306
DTSTAMP:20260419T211107
CREATED:20240606T132702Z
LAST-MODIFIED:20240606T132702Z
UID:10000153-1457053200-1457139599@aiea.it
SUMMARY:Sessione di Studio - Torino
DESCRIPTION:
URL:https://aiea.it/evento/sessione-di-studio-torino-37/
LOCATION:Collegio Univeristario Renato Einaudi – Sezione Crocetta\, Corso Lione 24\, Torino\, 10141\, Italia
CATEGORIES:Sessioni di Studio
END:VEVENT
BEGIN:VEVENT
DTSTART;VALUE=DATE:20160317
DTEND;VALUE=DATE:20160319
DTSTAMP:20260419T211107
CREATED:20240606T132522Z
LAST-MODIFIED:20240606T132522Z
UID:10000152-1458176400-1458262799@aiea.it
SUMMARY:Sessione di Studio Milano - Nell'ambito del "Security Summit"
DESCRIPTION:
URL:https://aiea.it/evento/sessione-di-studio-milano-nellambito-del-security-summit/
LOCATION:AtaHotel Expo Fiera\, Via Keplero 12\, Milano\, Italia
CATEGORIES:Sessioni di Studio
END:VEVENT
BEGIN:VEVENT
DTSTART;VALUE=DATE:20160413
DTEND;VALUE=DATE:20160415
DTSTAMP:20260419T211107
CREATED:20240509T093523Z
LAST-MODIFIED:20240509T093523Z
UID:10000149-1460512800-1460599199@aiea.it
SUMMARY:Sessione di Studio - Torino
DESCRIPTION:
URL:https://aiea.it/evento/sessione-di-studio-torino-36/
LOCATION:Collegio Univeristario Renato Einaudi – Sezione Crocetta\, Corso Lione 24\, Torino\, 10141\, Italia
CATEGORIES:Sessioni di Studio
END:VEVENT
BEGIN:VEVENT
DTSTART;VALUE=DATE:20160419
DTEND;VALUE=DATE:20160421
DTSTAMP:20260419T211107
CREATED:20240509T093454Z
LAST-MODIFIED:20240509T093454Z
UID:10000148-1461031200-1461117599@aiea.it
SUMMARY:Sessione di Studio - Roma
DESCRIPTION:
URL:https://aiea.it/evento/sessione-di-studio-roma-18/
LOCATION:HSPI Spa – Galleria Esedra\, Viale Vittorio Emanuele Orlando\, 75\, Roma\, Italia
CATEGORIES:Sessioni di Studio
END:VEVENT
BEGIN:VEVENT
DTSTART;VALUE=DATE:20160422
DTEND;VALUE=DATE:20160424
DTSTAMP:20260419T211107
CREATED:20240509T093426Z
LAST-MODIFIED:20240509T093426Z
UID:10000147-1461290400-1461376799@aiea.it
SUMMARY:Sessione di Studio - Milano
DESCRIPTION:
URL:https://aiea.it/evento/sessione-di-studio-milano-32/
LOCATION:Sala Convegni Unicredit\, Via Tupini 180\, Roma\, Italia
CATEGORIES:Sessioni di Studio
END:VEVENT
BEGIN:VEVENT
DTSTART;VALUE=DATE:20160511
DTEND;VALUE=DATE:20160513
DTSTAMP:20260419T211107
CREATED:20240509T093358Z
LAST-MODIFIED:20240509T093358Z
UID:10000146-1462932000-1463018399@aiea.it
SUMMARY:Sessione di Studio - Torino
DESCRIPTION:
URL:https://aiea.it/evento/sessione-di-studio-torino-35/
LOCATION:Collegio Univeristario Renato Einaudi – Sezione Crocetta\, Corso Lione 24\, Torino\, 10141\, Italia
CATEGORIES:Sessioni di Studio
END:VEVENT
BEGIN:VEVENT
DTSTART;VALUE=DATE:20160530
DTEND;VALUE=DATE:20160601
DTSTAMP:20260419T211107
CREATED:20240509T093321Z
LAST-MODIFIED:20240509T093321Z
UID:10000145-1464573600-1464659999@aiea.it
SUMMARY:Sessione di Studio - Milano
DESCRIPTION:
URL:https://aiea.it/evento/sessione-di-studio-milano-31/
LOCATION:Sala Convegni Unicredit\, Via Tupini 180\, Roma\, Italia
CATEGORIES:Sessioni di Studio
END:VEVENT
BEGIN:VEVENT
DTSTART;VALUE=DATE:20160614
DTEND;VALUE=DATE:20160616
DTSTAMP:20260419T211107
CREATED:20240509T093258Z
LAST-MODIFIED:20240509T093258Z
UID:10000144-1465869600-1465955999@aiea.it
SUMMARY:Sessione di Studio - Torino
DESCRIPTION:
URL:https://aiea.it/evento/sessione-di-studio-torino-34/
LOCATION:Collegio Univeristario Renato Einaudi – Sezione Crocetta\, Corso Lione 24\, Torino\, 10141\, Italia
CATEGORIES:Sessioni di Studio
END:VEVENT
BEGIN:VEVENT
DTSTART;VALUE=DATE:20160615
DTEND;VALUE=DATE:20160617
DTSTAMP:20260419T211107
CREATED:20240509T093222Z
LAST-MODIFIED:20240509T093222Z
UID:10000143-1465956000-1466042399@aiea.it
SUMMARY:Sessione di Studio - Roma
DESCRIPTION:
URL:https://aiea.it/evento/sessione-di-studio-roma-17/
LOCATION:HSPI Spa – Galleria Esedra\, Viale Vittorio Emanuele Orlando\, 75\, Roma\, Italia
CATEGORIES:Sessioni di Studio
END:VEVENT
BEGIN:VEVENT
DTSTART;VALUE=DATE:20160624
DTEND;VALUE=DATE:20160626
DTSTAMP:20260419T211107
CREATED:20240606T135149Z
LAST-MODIFIED:20240606T135149Z
UID:10000168-1466733600-1466819999@aiea.it
SUMMARY:Sessione di Studio - Roma
DESCRIPTION:
URL:https://aiea.it/evento/sessione-di-studio-roma-19/
CATEGORIES:Sessioni di Studio
END:VEVENT
END:VCALENDAR