BEGIN:VCALENDAR
VERSION:2.0
PRODID:-//Aiea - ECPv6.15.3//NONSGML v1.0//EN
CALSCALE:GREGORIAN
METHOD:PUBLISH
X-ORIGINAL-URL:https://aiea.it
X-WR-CALDESC:Eventi per Aiea
REFRESH-INTERVAL;VALUE=DURATION:PT1H
X-Robots-Tag:noindex
X-PUBLISHED-TTL:PT1H
BEGIN:VTIMEZONE
TZID:Europe/Rome
BEGIN:DAYLIGHT
TZOFFSETFROM:+0100
TZOFFSETTO:+0200
TZNAME:CEST
DTSTART:20130331T010000
END:DAYLIGHT
BEGIN:STANDARD
TZOFFSETFROM:+0200
TZOFFSETTO:+0100
TZNAME:CET
DTSTART:20131027T010000
END:STANDARD
BEGIN:DAYLIGHT
TZOFFSETFROM:+0100
TZOFFSETTO:+0200
TZNAME:CEST
DTSTART:20140330T010000
END:DAYLIGHT
BEGIN:STANDARD
TZOFFSETFROM:+0200
TZOFFSETTO:+0100
TZNAME:CET
DTSTART:20141026T010000
END:STANDARD
BEGIN:DAYLIGHT
TZOFFSETFROM:+0100
TZOFFSETTO:+0200
TZNAME:CEST
DTSTART:20150329T010000
END:DAYLIGHT
BEGIN:STANDARD
TZOFFSETFROM:+0200
TZOFFSETTO:+0100
TZNAME:CET
DTSTART:20151025T010000
END:STANDARD
END:VTIMEZONE
BEGIN:VEVENT
DTSTART;VALUE=DATE:20131202
DTEND;VALUE=DATE:20131204
DTSTAMP:20260419T175828
CREATED:20240607T133727Z
LAST-MODIFIED:20240607T133727Z
UID:10000199-1385946000-1386032399@aiea.it
SUMMARY:Sessione di Studio - Roma
DESCRIPTION:
URL:https://aiea.it/evento/sessione-di-studio-roma-25/
CATEGORIES:Sessioni di Studio
END:VEVENT
BEGIN:VEVENT
DTSTART;VALUE=DATE:20131213
DTEND;VALUE=DATE:20131215
DTSTAMP:20260419T175828
CREATED:20240607T133707Z
LAST-MODIFIED:20240607T133707Z
UID:10000197-1386896400-1386982799@aiea.it
SUMMARY:Sessione di Studio - Roma
DESCRIPTION:
URL:https://aiea.it/evento/sessione-di-studio-roma-24/
CATEGORIES:Sessioni di Studio
END:VEVENT
BEGIN:VEVENT
DTSTART;VALUE=DATE:20131213
DTEND;VALUE=DATE:20131215
DTSTAMP:20260419T175828
CREATED:20240607T133643Z
LAST-MODIFIED:20240607T133643Z
UID:10000198-1386896400-1386982799@aiea.it
SUMMARY:Sessione di Studio - Milano
DESCRIPTION:
URL:https://aiea.it/evento/sessione-di-studio-milano-48/
CATEGORIES:Sessioni di Studio
END:VEVENT
BEGIN:VEVENT
DTSTART;VALUE=DATE:20140205
DTEND;VALUE=DATE:20140207
DTSTAMP:20260419T175828
CREATED:20240607T133542Z
LAST-MODIFIED:20240607T133542Z
UID:10000196-1391562000-1391648399@aiea.it
SUMMARY:Sessione di Studio - Manno
DESCRIPTION:COMPLIANCE FINANZIARIA E TREND EVOLUTIVI MONDIALI\n\n\n\n\nda ECB a FACTA\, esigenze di controllo e allineamento di business
URL:https://aiea.it/evento/sessione-di-studio-manno-2/
CATEGORIES:Sessioni di Studio
END:VEVENT
BEGIN:VEVENT
DTSTART;VALUE=DATE:20140221
DTEND;VALUE=DATE:20140223
DTSTAMP:20260419T175828
CREATED:20240607T133515Z
LAST-MODIFIED:20240607T133515Z
UID:10000195-1392944400-1393030799@aiea.it
SUMMARY:Sessione di Studio - Milano
DESCRIPTION:
URL:https://aiea.it/evento/sessione-di-studio-milano-47/
CATEGORIES:Sessioni di Studio
END:VEVENT
BEGIN:VEVENT
DTSTART;VALUE=DATE:20140227
DTEND;VALUE=DATE:20140301
DTSTAMP:20260419T175828
CREATED:20240607T133442Z
LAST-MODIFIED:20240607T133442Z
UID:10000194-1393462800-1393549199@aiea.it
SUMMARY:Sessione di Studio - Torino
DESCRIPTION:
URL:https://aiea.it/evento/sessione-di-studio-torino-49/
CATEGORIES:Sessioni di Studio
END:VEVENT
BEGIN:VEVENT
DTSTART;VALUE=DATE:20140320
DTEND;VALUE=DATE:20140322
DTSTAMP:20260419T175828
CREATED:20240607T133413Z
LAST-MODIFIED:20240607T133413Z
UID:10000193-1395277200-1395363599@aiea.it
SUMMARY:Sessione di Studio - Milano
DESCRIPTION:
URL:https://aiea.it/evento/sessione-di-studio-milano-46/
CATEGORIES:Sessioni di Studio
END:VEVENT
BEGIN:VEVENT
DTSTART;VALUE=DATE:20140404
DTEND;VALUE=DATE:20140406
DTSTAMP:20260419T175828
CREATED:20240607T133212Z
LAST-MODIFIED:20240607T133330Z
UID:10000192-1396576800-1396663199@aiea.it
SUMMARY:Sessione di Studio - Torino
DESCRIPTION:
URL:https://aiea.it/evento/sessione-di-studio-torino-48/
CATEGORIES:Sessioni di Studio
END:VEVENT
BEGIN:VEVENT
DTSTART;VALUE=DATE:20140411
DTEND;VALUE=DATE:20140413
DTSTAMP:20260419T175828
CREATED:20240607T133145Z
LAST-MODIFIED:20240607T133145Z
UID:10000191-1397181600-1397267999@aiea.it
SUMMARY:Sessione di Studio - Milano
DESCRIPTION:
URL:https://aiea.it/evento/sessione-di-studio-milano-45/
CATEGORIES:Sessioni di Studio
END:VEVENT
BEGIN:VEVENT
DTSTART;VALUE=DATE:20140516
DTEND;VALUE=DATE:20140518
DTSTAMP:20260419T175828
CREATED:20240607T133111Z
LAST-MODIFIED:20240607T133122Z
UID:10000190-1400205600-1400291999@aiea.it
SUMMARY:Sessione di Studio - Milano
DESCRIPTION:
URL:https://aiea.it/evento/sessione-di-studio-milano-44/
CATEGORIES:Sessioni di Studio
END:VEVENT
BEGIN:VEVENT
DTSTART;VALUE=DATE:20140529
DTEND;VALUE=DATE:20140531
DTSTAMP:20260419T175828
CREATED:20240607T133052Z
LAST-MODIFIED:20240607T133052Z
UID:10000189-1401328800-1401415199@aiea.it
SUMMARY:Sessione di Studio - Torino
DESCRIPTION:
URL:https://aiea.it/evento/sessione-di-studio-torino-47/
LOCATION:Collegio Univeristario Renato Einaudi – Sezione Crocetta\, Corso Lione 24\, Torino\, 10141\, Italia
CATEGORIES:Sessioni di Studio
END:VEVENT
BEGIN:VEVENT
DTSTART;VALUE=DATE:20140620
DTEND;VALUE=DATE:20140622
DTSTAMP:20260419T175828
CREATED:20240607T133029Z
LAST-MODIFIED:20240607T133029Z
UID:10000188-1403229600-1403315999@aiea.it
SUMMARY:Sessione di Studio - Milano
DESCRIPTION:
URL:https://aiea.it/evento/sessione-di-studio-milano-43/
LOCATION:Sala Convegni Unicredit\, Via Tupini 180\, Roma\, Italia
CATEGORIES:Sessioni di Studio
END:VEVENT
BEGIN:VEVENT
DTSTART;VALUE=DATE:20141002
DTEND;VALUE=DATE:20141004
DTSTAMP:20260419T175828
CREATED:20240607T133006Z
LAST-MODIFIED:20240607T133006Z
UID:10000187-1412215200-1412301599@aiea.it
SUMMARY:Sessione di Studio - Roma
DESCRIPTION:
URL:https://aiea.it/evento/sessione-di-studio-roma-23/
CATEGORIES:Sessioni di Studio
END:VEVENT
BEGIN:VEVENT
DTSTART;VALUE=DATE:20141002
DTEND;VALUE=DATE:20141004
DTSTAMP:20260419T175828
CREATED:20240607T132930Z
LAST-MODIFIED:20240607T132930Z
UID:10000186-1412215200-1412301599@aiea.it
SUMMARY:Sessione di Studio - Torino
DESCRIPTION:
URL:https://aiea.it/evento/sessione-di-studio-torino-46/
CATEGORIES:Sessioni di Studio
END:VEVENT
BEGIN:VEVENT
DTSTART;VALUE=DATE:20141023
DTEND;VALUE=DATE:20141025
DTSTAMP:20260419T175828
CREATED:20240607T132900Z
LAST-MODIFIED:20240607T132900Z
UID:10000185-1414029600-1414115999@aiea.it
SUMMARY:Sessione di Studio - Milano
DESCRIPTION:
URL:https://aiea.it/evento/sessione-di-studio-milano-42/
CATEGORIES:Sessioni di Studio
END:VEVENT
BEGIN:VEVENT
DTSTART;VALUE=DATE:20141106
DTEND;VALUE=DATE:20141108
DTSTAMP:20260419T175828
CREATED:20240607T132839Z
LAST-MODIFIED:20240607T132839Z
UID:10000184-1415235600-1415321999@aiea.it
SUMMARY:Sessione di Studio - Torino
DESCRIPTION:
URL:https://aiea.it/evento/sessione-di-studio-torino-45/
LOCATION:Collegio Univeristario Renato Einaudi – Sezione Crocetta\, Corso Lione 24\, Torino\, 10141\, Italia
CATEGORIES:Sessioni di Studio
END:VEVENT
BEGIN:VEVENT
DTSTART;VALUE=DATE:20141121
DTEND;VALUE=DATE:20141123
DTSTAMP:20260419T175828
CREATED:20240607T132755Z
LAST-MODIFIED:20240607T132819Z
UID:10000183-1416531600-1416617999@aiea.it
SUMMARY:Sessione di Studio - Milano
DESCRIPTION:
URL:https://aiea.it/evento/sessione-di-studio-milano-41/
CATEGORIES:Sessioni di Studio
END:VEVENT
BEGIN:VEVENT
DTSTART;VALUE=DATE:20141204
DTEND;VALUE=DATE:20141206
DTSTAMP:20260419T175828
CREATED:20240607T105427Z
LAST-MODIFIED:20240607T125001Z
UID:10000182-1417654800-1417741199@aiea.it
SUMMARY:Sessione di Studio - Torino
DESCRIPTION:
URL:https://aiea.it/evento/sessione-di-studio-torino-44/
LOCATION:Collegio Univeristario Renato Einaudi – Sezione Crocetta\, Corso Lione 24\, Torino\, 10141\, Italia
CATEGORIES:Sessioni di Studio
END:VEVENT
BEGIN:VEVENT
DTSTART;VALUE=DATE:20141219
DTEND;VALUE=DATE:20141221
DTSTAMP:20260419T175828
CREATED:20240607T104947Z
LAST-MODIFIED:20240607T105352Z
UID:10000181-1418950800-1419037199@aiea.it
SUMMARY:Sessione di Studio - Milano
DESCRIPTION:
URL:https://aiea.it/evento/sessione-di-studio-milano-40/
CATEGORIES:Sessioni di Studio
END:VEVENT
BEGIN:VEVENT
DTSTART;VALUE=DATE:20150209
DTEND;VALUE=DATE:20150211
DTSTAMP:20260419T175828
CREATED:20240607T104834Z
LAST-MODIFIED:20240607T104834Z
UID:10000180-1423443600-1423529999@aiea.it
SUMMARY:Sessione di Studio - Manno
DESCRIPTION:COMPLIANCE FINANZIARIA E TREND EVOLUTIVI MONDIALI\n\n\n\n\nda ECB a FACTA\, esigenze di controllo e allineamento di business
URL:https://aiea.it/evento/sessione-di-studio-manno/
CATEGORIES:Sessioni di Studio
END:VEVENT
BEGIN:VEVENT
DTSTART;VALUE=DATE:20150226
DTEND;VALUE=DATE:20150228
DTSTAMP:20260419T175828
CREATED:20240607T104743Z
LAST-MODIFIED:20240607T104743Z
UID:10000179-1424912400-1424998799@aiea.it
SUMMARY:Sessione di Studio - Torino
DESCRIPTION:
URL:https://aiea.it/evento/sessione-di-studio-torino-43/
LOCATION:Collegio Univeristario Renato Einaudi – Sezione Crocetta\, Corso Lione 24\, Torino\, 10141\, Italia
CATEGORIES:Sessioni di Studio
END:VEVENT
BEGIN:VEVENT
DTSTART;VALUE=DATE:20150227
DTEND;VALUE=DATE:20150301
DTSTAMP:20260419T175828
CREATED:20240607T104718Z
LAST-MODIFIED:20240607T104718Z
UID:10000178-1424998800-1425085199@aiea.it
SUMMARY:Sessione di Studio - Milano
DESCRIPTION:
URL:https://aiea.it/evento/sessione-di-studio-milano-39/
LOCATION:Sala Convegni Unicredit\, Via Tupini 180\, Roma\, Italia
CATEGORIES:Sessioni di Studio
END:VEVENT
BEGIN:VEVENT
DTSTART;VALUE=DATE:20150319
DTEND;VALUE=DATE:20150321
DTSTAMP:20260419T175828
CREATED:20240607T104642Z
LAST-MODIFIED:20240607T104642Z
UID:10000177-1426726800-1426813199@aiea.it
SUMMARY:Sessione di Studio - Security Summit Milano
DESCRIPTION:
URL:https://aiea.it/evento/sessione-di-studio-security-summit-milano/
CATEGORIES:Sessioni di Studio
END:VEVENT
BEGIN:VEVENT
DTSTART;VALUE=DATE:20150327
DTEND;VALUE=DATE:20150329
DTSTAMP:20260419T175828
CREATED:20240607T081829Z
LAST-MODIFIED:20240607T091034Z
UID:10000176-1427418000-1427504399@aiea.it
SUMMARY:Sessione di Studio - Torino
DESCRIPTION:
URL:https://aiea.it/evento/sessione-di-studio-torino-42/
LOCATION:Collegio Univeristario Renato Einaudi – Sezione Crocetta\, Corso Lione 24\, Torino\, 10141\, Italia
CATEGORIES:Sessioni di Studio
END:VEVENT
BEGIN:VEVENT
DTSTART;VALUE=DATE:20150417
DTEND;VALUE=DATE:20150419
DTSTAMP:20260419T175828
CREATED:20240607T081751Z
LAST-MODIFIED:20240607T081751Z
UID:10000175-1429236000-1429322399@aiea.it
SUMMARY:Sessione di Studio - Milano
DESCRIPTION:
URL:https://aiea.it/evento/sessione-di-studio-milano-38/
LOCATION:Sala Convegni Unicredit\, Via Tupini 180\, Roma\, Italia
CATEGORIES:Sessioni di Studio
END:VEVENT
BEGIN:VEVENT
DTSTART;VALUE=DATE:20150423
DTEND;VALUE=DATE:20150425
DTSTAMP:20260419T175828
CREATED:20240607T081731Z
LAST-MODIFIED:20240607T081731Z
UID:10000174-1429754400-1429840799@aiea.it
SUMMARY:Sessione di Studio - Roma
DESCRIPTION:
URL:https://aiea.it/evento/sessione-di-studio-roma-22/
CATEGORIES:Sessioni di Studio
END:VEVENT
BEGIN:VEVENT
DTSTART;VALUE=DATE:20150522
DTEND;VALUE=DATE:20150524
DTSTAMP:20260419T175828
CREATED:20240607T081659Z
LAST-MODIFIED:20240607T081659Z
UID:10000173-1432260000-1432346399@aiea.it
SUMMARY:Sessione di Studio - Milano
DESCRIPTION:
URL:https://aiea.it/evento/sessione-di-studio-milano-37/
LOCATION:Sala Convegni Unicredit\, Via Tupini 180\, Roma\, Italia
CATEGORIES:Sessioni di Studio
END:VEVENT
BEGIN:VEVENT
DTSTART;VALUE=DATE:20150528
DTEND;VALUE=DATE:20150530
DTSTAMP:20260419T175828
CREATED:20240607T081633Z
LAST-MODIFIED:20240607T081633Z
UID:10000172-1432778400-1432864799@aiea.it
SUMMARY:Sessione di Studio - Torino
DESCRIPTION:
URL:https://aiea.it/evento/sessione-di-studio-torino-41/
LOCATION:Collegio Univeristario Renato Einaudi – Sezione Crocetta\, Corso Lione 24\, Torino\, 10141\, Italia
CATEGORIES:Sessioni di Studio
END:VEVENT
BEGIN:VEVENT
DTSTART;VALUE=DATE:20150529
DTEND;VALUE=DATE:20150531
DTSTAMP:20260419T175828
CREATED:20240606T135714Z
LAST-MODIFIED:20240606T135714Z
UID:10000171-1432864800-1432951199@aiea.it
SUMMARY:Sessione di Studio - Roma
DESCRIPTION:
URL:https://aiea.it/evento/sessione-di-studio-roma-21/
CATEGORIES:Sessioni di Studio
END:VEVENT
BEGIN:VEVENT
DTSTART;VALUE=DATE:20150619
DTEND;VALUE=DATE:20150621
DTSTAMP:20260419T175828
CREATED:20240606T135635Z
LAST-MODIFIED:20240606T135635Z
UID:10000170-1434679200-1434765599@aiea.it
SUMMARY:Sessione di Studio - Milano
DESCRIPTION:
URL:https://aiea.it/evento/sessione-di-studio-milano-36/
LOCATION:Sala Convegni Unicredit\, Via Tupini 180\, Roma\, Italia
CATEGORIES:Sessioni di Studio
END:VEVENT
END:VCALENDAR