BEGIN:VCALENDAR
VERSION:2.0
PRODID:-//Aiea - ECPv6.15.3//NONSGML v1.0//EN
CALSCALE:GREGORIAN
METHOD:PUBLISH
X-ORIGINAL-URL:https://aiea.it
X-WR-CALDESC:Eventi per Aiea
REFRESH-INTERVAL;VALUE=DURATION:PT1H
X-Robots-Tag:noindex
X-PUBLISHED-TTL:PT1H
BEGIN:VTIMEZONE
TZID:Europe/Rome
BEGIN:DAYLIGHT
TZOFFSETFROM:+0100
TZOFFSETTO:+0200
TZNAME:CEST
DTSTART:20170326T010000
END:DAYLIGHT
BEGIN:STANDARD
TZOFFSETFROM:+0200
TZOFFSETTO:+0100
TZNAME:CET
DTSTART:20171029T010000
END:STANDARD
BEGIN:DAYLIGHT
TZOFFSETFROM:+0100
TZOFFSETTO:+0200
TZNAME:CEST
DTSTART:20180325T010000
END:DAYLIGHT
BEGIN:STANDARD
TZOFFSETFROM:+0200
TZOFFSETTO:+0100
TZNAME:CET
DTSTART:20181028T010000
END:STANDARD
BEGIN:DAYLIGHT
TZOFFSETFROM:+0100
TZOFFSETTO:+0200
TZNAME:CEST
DTSTART:20190331T010000
END:DAYLIGHT
BEGIN:STANDARD
TZOFFSETFROM:+0200
TZOFFSETTO:+0100
TZNAME:CET
DTSTART:20191027T010000
END:STANDARD
END:VTIMEZONE
BEGIN:VEVENT
DTSTART;VALUE=DATE:20170612
DTEND;VALUE=DATE:20170614
DTSTAMP:20260420T040921
CREATED:20240419T152550Z
LAST-MODIFIED:20240419T152601Z
UID:10000123-1497232800-1497319199@aiea.it
SUMMARY:Sessione di Studio - Milano
DESCRIPTION:
URL:https://aiea.it/evento/sessione-di-studio-milano-24/
LOCATION:Auditorium UniCredit Services\, Via Livio Cambi 1\, Milano\, 20151\, Italia
CATEGORIES:Sessioni di Studio
END:VEVENT
BEGIN:VEVENT
DTSTART;VALUE=DATE:20170630
DTEND;VALUE=DATE:20170702
DTSTAMP:20260420T040921
CREATED:20240419T152531Z
LAST-MODIFIED:20240419T152531Z
UID:10000122-1498788000-1498874399@aiea.it
SUMMARY:Sessione di Studio - Torino
DESCRIPTION:
URL:https://aiea.it/evento/sessione-di-studio-torino-28/
LOCATION:Collegio Univeristario Renato Einaudi – Sezione Crocetta\, Corso Lione 24\, Torino\, 10141\, Italia
CATEGORIES:Sessioni di Studio
END:VEVENT
BEGIN:VEVENT
DTSTART;VALUE=DATE:20170922
DTEND;VALUE=DATE:20170924
DTSTAMP:20260420T040921
CREATED:20240419T152507Z
LAST-MODIFIED:20240419T152507Z
UID:10000121-1506045600-1506131999@aiea.it
SUMMARY:Sessione di Studio - Trento
DESCRIPTION:
URL:https://aiea.it/evento/sessione-di-studio-trento-2/
LOCATION:Polo Universitario delle Professioni Sanitarie\, Via Briamasco 2\, Trento\, Italia
CATEGORIES:Sessioni di Studio
END:VEVENT
BEGIN:VEVENT
DTSTART;VALUE=DATE:20171027
DTEND;VALUE=DATE:20171029
DTSTAMP:20260420T040921
CREATED:20240419T152347Z
LAST-MODIFIED:20240419T152347Z
UID:10000120-1509069600-1509155999@aiea.it
SUMMARY:Sessione di Studio - Torino
DESCRIPTION:
URL:https://aiea.it/evento/sessione-di-studio-torino-27/
LOCATION:Collegio Univeristario Renato Einaudi – Sezione Crocetta\, Corso Lione 24\, Torino\, 10141\, Italia
CATEGORIES:Sessioni di Studio
END:VEVENT
BEGIN:VEVENT
DTSTART;VALUE=DATE:20171106
DTEND;VALUE=DATE:20171108
DTSTAMP:20260420T040921
CREATED:20240419T152325Z
LAST-MODIFIED:20240419T152325Z
UID:10000119-1509930000-1510016399@aiea.it
SUMMARY:Sessione di Studio - Lugano
DESCRIPTION:
URL:https://aiea.it/evento/sessione-di-studio-lugano-7/
LOCATION:Hotel Dante\, Piazza Cioccaro 5\, Lugano\, Svizzera
CATEGORIES:Sessioni di Studio
END:VEVENT
BEGIN:VEVENT
DTSTART;VALUE=DATE:20171124
DTEND;VALUE=DATE:20171126
DTSTAMP:20260420T040921
CREATED:20240419T152256Z
LAST-MODIFIED:20240419T152256Z
UID:10000118-1511485200-1511571599@aiea.it
SUMMARY:Sessione di Studio - Torino
DESCRIPTION:
URL:https://aiea.it/evento/sessione-di-studio-torino-26/
LOCATION:Collegio Univeristario Renato Einaudi – Sezione Crocetta\, Corso Lione 24\, Torino\, 10141\, Italia
CATEGORIES:Sessioni di Studio
END:VEVENT
BEGIN:VEVENT
DTSTART;VALUE=DATE:20171212
DTEND;VALUE=DATE:20171214
DTSTAMP:20260420T040921
CREATED:20240419T152235Z
LAST-MODIFIED:20240419T152235Z
UID:10000117-1513040400-1513126799@aiea.it
SUMMARY:Sessione di Studio - Roma
DESCRIPTION:
URL:https://aiea.it/evento/sessione-di-studio-roma-11/
LOCATION:Hotel Nord Nuova Roma\, Via Giovanni Amendola 3\, Roma\, Italia
CATEGORIES:Sessioni di Studio
END:VEVENT
BEGIN:VEVENT
DTSTART;VALUE=DATE:20171215
DTEND;VALUE=DATE:20171217
DTSTAMP:20260420T040921
CREATED:20240419T152210Z
LAST-MODIFIED:20240419T152210Z
UID:10000116-1513299600-1513385999@aiea.it
SUMMARY:Sessione di Studio - Milano
DESCRIPTION:
URL:https://aiea.it/evento/sessione-di-studio-milano-23/
LOCATION:Auditorium UniCredit Services\, Via Livio Cambi 1\, Milano\, 20151\, Italia
CATEGORIES:Sessioni di Studio
END:VEVENT
BEGIN:VEVENT
DTSTART;VALUE=DATE:20180215
DTEND;VALUE=DATE:20180217
DTSTAMP:20260420T040921
CREATED:20240419T140828Z
LAST-MODIFIED:20240419T140828Z
UID:10000115-1518656400-1518742799@aiea.it
SUMMARY:Sessione di Studio - Siena
DESCRIPTION:Cybersecurity. Un mostro a tre teste (teoria\, pratica e progetti futuri)\n\n\n\n\nIn collaborazione con l’Ordine degli Ingegneri della Provincia di Siena. Riconosce 3 CFP\, iscrivendosi sul Portale siena.ing4.it
URL:https://aiea.it/evento/sessione-di-studio-siena-9/
LOCATION:Auditorium Banca Monte dei Paschi di Siena\, Viale Giuseppe Mazzini 23\, Siena\, Italia
CATEGORIES:Sessioni di Studio
END:VEVENT
BEGIN:VEVENT
DTSTART;VALUE=DATE:20180223
DTEND;VALUE=DATE:20180225
DTSTAMP:20260420T040921
CREATED:20240419T140728Z
LAST-MODIFIED:20240419T140728Z
UID:10000114-1519347600-1519433999@aiea.it
SUMMARY:Sessione di Studio - Milano
DESCRIPTION:
URL:https://aiea.it/evento/sessione-di-studio-milano-22/
LOCATION:Auditorium UniCredit Services\, Via Livio Cambi 1\, Milano\, 20151\, Italia
CATEGORIES:Sessioni di Studio
END:VEVENT
BEGIN:VEVENT
DTSTART;VALUE=DATE:20180223
DTEND;VALUE=DATE:20180225
DTSTAMP:20260420T040921
CREATED:20240419T140641Z
LAST-MODIFIED:20240419T140641Z
UID:10000113-1519347600-1519433999@aiea.it
SUMMARY:Sessione di Studio - Torino
DESCRIPTION:
URL:https://aiea.it/evento/sessione-di-studio-torino-25/
LOCATION:Collegio Univeristario Renato Einaudi – Sezione Crocetta\, Corso Lione 24\, Torino\, 10141\, Italia
CATEGORIES:Sessioni di Studio
END:VEVENT
BEGIN:VEVENT
DTSTART;VALUE=DATE:20180228
DTEND;VALUE=DATE:20180302
DTSTAMP:20260420T040921
CREATED:20240419T140602Z
LAST-MODIFIED:20240419T140602Z
UID:10000112-1519779600-1519865999@aiea.it
SUMMARY:Sessione di Studio - Roma
DESCRIPTION:
URL:https://aiea.it/evento/sessione-di-studio-roma-10/
LOCATION:Hotel dei Congressi\, Viale Shakespeare 29\, Roma\, 00144\, Italia
CATEGORIES:Sessioni di Studio
END:VEVENT
BEGIN:VEVENT
DTSTART;VALUE=DATE:20180315
DTEND;VALUE=DATE:20180317
DTSTAMP:20260420T040921
CREATED:20240419T152858Z
LAST-MODIFIED:20240419T152858Z
UID:10000129-1521075600-1521161999@aiea.it
SUMMARY:Sessione di Studio - Milano Security Summit
DESCRIPTION:AIEA al Security Summit\n\n\n\n\nOre 17:20 – 18:00
URL:https://aiea.it/evento/sessione-di-studio-milano-security-summit-2/
LOCATION:UNAHOTELS Expo Fiera – Sala ASIA A\, Via Keplero 12\, Pero\, Milano\, Italia
CATEGORIES:Sessioni di Studio
END:VEVENT
BEGIN:VEVENT
DTSTART;VALUE=DATE:20180315
DTEND;VALUE=DATE:20180317
DTSTAMP:20260420T040921
CREATED:20240419T140520Z
LAST-MODIFIED:20240419T140614Z
UID:10000111-1521075600-1521161999@aiea.it
SUMMARY:Sessione di Studio - Milano Security Summit
DESCRIPTION:AIEA al Security Summit\n\n\n\n\nOre 17:20 – 18:00 Sala ASIA D
URL:https://aiea.it/evento/sessione-di-studio-milano-security-summit/
LOCATION:UNAHOTELS Expo Fiera – Sala ASIA A\, Via Keplero 12\, Pero\, Milano\, Italia
CATEGORIES:Sessioni di Studio
END:VEVENT
BEGIN:VEVENT
DTSTART;VALUE=DATE:20180323
DTEND;VALUE=DATE:20180325
DTSTAMP:20260420T040921
CREATED:20240419T140143Z
LAST-MODIFIED:20240419T140143Z
UID:10000110-1521766800-1521853199@aiea.it
SUMMARY:Sessione di Studio - Torino
DESCRIPTION:
URL:https://aiea.it/evento/sessione-di-studio-torino-24/
LOCATION:Collegio Univeristario Renato Einaudi – Sezione Crocetta\, Corso Lione 24\, Torino\, 10141\, Italia
CATEGORIES:Sessioni di Studio
END:VEVENT
BEGIN:VEVENT
DTSTART;VALUE=DATE:20180419
DTEND;VALUE=DATE:20180421
DTSTAMP:20260420T040921
CREATED:20240419T140108Z
LAST-MODIFIED:20240419T140108Z
UID:10000109-1524103200-1524189599@aiea.it
SUMMARY:Sessione di Studio - Milano
DESCRIPTION:
URL:https://aiea.it/evento/sessione-di-studio-milano-21/
LOCATION:Auditorium UniCredit Services\, Via Livio Cambi 1\, Milano\, 20151\, Italia
CATEGORIES:Sessioni di Studio
END:VEVENT
BEGIN:VEVENT
DTSTART;VALUE=DATE:20180420
DTEND;VALUE=DATE:20180422
DTSTAMP:20260420T040921
CREATED:20240419T140025Z
LAST-MODIFIED:20240419T140025Z
UID:10000108-1524189600-1524275999@aiea.it
SUMMARY:Sessione di Studio - Torino
DESCRIPTION:
URL:https://aiea.it/evento/sessione-di-studio-torino-23/
LOCATION:Collegio Univeristario Renato Einaudi – Sezione Crocetta\, Corso Lione 24\, Torino\, 10141\, Italia
CATEGORIES:Sessioni di Studio
END:VEVENT
BEGIN:VEVENT
DTSTART;VALUE=DATE:20180525
DTEND;VALUE=DATE:20180527
DTSTAMP:20260420T040921
CREATED:20240419T140007Z
LAST-MODIFIED:20240419T140007Z
UID:10000107-1527213600-1527299999@aiea.it
SUMMARY:Sessione di Studio - Torino
DESCRIPTION:
URL:https://aiea.it/evento/sessione-di-studio-torino-22/
LOCATION:Collegio Univeristario Renato Einaudi – Sezione Crocetta\, Corso Lione 24\, Torino\, 10141\, Italia
CATEGORIES:Sessioni di Studio
END:VEVENT
BEGIN:VEVENT
DTSTART;VALUE=DATE:20180611
DTEND;VALUE=DATE:20180613
DTSTAMP:20260420T040921
CREATED:20240419T135947Z
LAST-MODIFIED:20240419T135947Z
UID:10000106-1528682400-1528768799@aiea.it
SUMMARY:Sessione di Studio - Milano
DESCRIPTION:
URL:https://aiea.it/evento/sessione-di-studio-milano-20/
LOCATION:Centro SIAM\, Via Santa Marta 18\, Milano\, Italia
CATEGORIES:Sessioni di Studio
END:VEVENT
BEGIN:VEVENT
DTSTART;VALUE=DATE:20180619
DTEND;VALUE=DATE:20180621
DTSTAMP:20260420T040921
CREATED:20240419T135859Z
LAST-MODIFIED:20240419T135859Z
UID:10000105-1529373600-1529459999@aiea.it
SUMMARY:Sessione di Studio - Roma
DESCRIPTION:
URL:https://aiea.it/evento/sessione-di-studio-roma-9/
LOCATION:Hotel Nord Nuova Roma\, Via Giovanni Amendola 3\, Roma\, Italia
CATEGORIES:Sessioni di Studio
END:VEVENT
BEGIN:VEVENT
DTSTART;VALUE=DATE:20180622
DTEND;VALUE=DATE:20180624
DTSTAMP:20260420T040922
CREATED:20240419T135828Z
LAST-MODIFIED:20240419T135828Z
UID:10000104-1529632800-1529719199@aiea.it
SUMMARY:Sessione di Studio - Torino
DESCRIPTION:
URL:https://aiea.it/evento/sessione-di-studio-torino-21/
LOCATION:Collegio Univeristario Renato Einaudi – Sezione Crocetta\, Corso Lione 24\, Torino\, 10141\, Italia
CATEGORIES:Sessioni di Studio
END:VEVENT
BEGIN:VEVENT
DTSTART;VALUE=DATE:20180912
DTEND;VALUE=DATE:20180914
DTSTAMP:20260420T040922
CREATED:20240419T135707Z
LAST-MODIFIED:20240419T135707Z
UID:10000103-1536717600-1536803999@aiea.it
SUMMARY:Sessione di Studio - Roma
DESCRIPTION:
URL:https://aiea.it/evento/sessione-di-studio-roma-8/
LOCATION:Hotel Nord Nuova Roma\, Via Giovanni Amendola 3\, Roma\, Italia
CATEGORIES:Sessioni di Studio
END:VEVENT
BEGIN:VEVENT
DTSTART;VALUE=DATE:20180919
DTEND;VALUE=DATE:20180921
DTSTAMP:20260420T040922
CREATED:20240419T135442Z
LAST-MODIFIED:20240419T135549Z
UID:10000102-1537322400-1537408799@aiea.it
SUMMARY:AIEA Overthet0p - III edizione - Milano
DESCRIPTION:AIEA nello spazio
URL:https://aiea.it/evento/aiea-overthet0p-iii-edizione-milano/
LOCATION:Centro SIAM\, Via Santa Marta 18\, Milano\, Italia
CATEGORIES:Sessioni di Studio
END:VEVENT
BEGIN:VEVENT
DTSTART;VALUE=DATE:20181108
DTEND;VALUE=DATE:20181110
DTSTAMP:20260420T040922
CREATED:20240419T135123Z
LAST-MODIFIED:20240419T135123Z
UID:10000101-1541638800-1541725199@aiea.it
SUMMARY:Sessione di Studio - Torino
DESCRIPTION:
URL:https://aiea.it/evento/sessione-di-studio-torino-20/
LOCATION:Collegio Univeristario Renato Einaudi – Sezione Crocetta\, Corso Lione 24\, Torino\, 10141\, Italia
CATEGORIES:Sessioni di Studio
END:VEVENT
BEGIN:VEVENT
DTSTART;VALUE=DATE:20181115
DTEND;VALUE=DATE:20181117
DTSTAMP:20260420T040922
CREATED:20240419T135044Z
LAST-MODIFIED:20240419T135044Z
UID:10000100-1542243600-1542329999@aiea.it
SUMMARY:Sessione di Studio - Siena
DESCRIPTION:ATTACHI CYBER: Difendiamoci Insieme\n\n\n\n\nSocial warning\, blockchain\, big data & AI
URL:https://aiea.it/evento/sessione-di-studio-siena-8/
LOCATION:Auditorium Banca Monte dei Paschi di Siena\, Viale Giuseppe Mazzini 23\, Siena\, Italia
CATEGORIES:Sessioni di Studio
END:VEVENT
BEGIN:VEVENT
DTSTART;VALUE=DATE:20181123
DTEND;VALUE=DATE:20181125
DTSTAMP:20260420T040922
CREATED:20240419T132324Z
LAST-MODIFIED:20240419T132324Z
UID:10000099-1542934800-1543021199@aiea.it
SUMMARY:Sessione di Studio - Milano
DESCRIPTION:
URL:https://aiea.it/evento/sessione-di-studio-milano-19/
LOCATION:Auditorium UniCredit Services\, Via Livio Cambi 1\, Milano\, 20151\, Italia
CATEGORIES:Sessioni di Studio
END:VEVENT
BEGIN:VEVENT
DTSTART;VALUE=DATE:20181127
DTEND;VALUE=DATE:20181129
DTSTAMP:20260420T040922
CREATED:20240419T132242Z
LAST-MODIFIED:20240419T132242Z
UID:10000098-1543280400-1543366799@aiea.it
SUMMARY:Sessione di Studio - Roma
DESCRIPTION:
URL:https://aiea.it/evento/sessione-di-studio-roma-7/
LOCATION:Hotel dei Congressi\, Viale Shakespeare 29\, Roma\, 00144\, Italia
CATEGORIES:Sessioni di Studio
END:VEVENT
BEGIN:VEVENT
DTSTART;VALUE=DATE:20181214
DTEND;VALUE=DATE:20181216
DTSTAMP:20260420T040922
CREATED:20240419T132100Z
LAST-MODIFIED:20240419T132100Z
UID:10000097-1544749200-1544835599@aiea.it
SUMMARY:Sessione di Studio - Milano
DESCRIPTION:
URL:https://aiea.it/evento/sessione-di-studio-milano-18/
LOCATION:Auditorium UniCredit Services\, Via Livio Cambi 1\, Milano\, 20151\, Italia
CATEGORIES:Sessioni di Studio
END:VEVENT
BEGIN:VEVENT
DTSTART;VALUE=DATE:20190124
DTEND;VALUE=DATE:20190126
DTSTAMP:20260420T040922
CREATED:20240419T104644Z
LAST-MODIFIED:20240419T104644Z
UID:10000096-1548291600-1548377999@aiea.it
SUMMARY:Sessione di Studio - Lugano
DESCRIPTION:
URL:https://aiea.it/evento/sessione-di-studio-lugano-6/
LOCATION:Hotel Dante\, Piazza Cioccaro 5\, Lugano\, Svizzera
CATEGORIES:Sessioni di Studio
END:VEVENT
BEGIN:VEVENT
DTSTART;VALUE=DATE:20190215
DTEND;VALUE=DATE:20190217
DTSTAMP:20260420T040922
CREATED:20240419T104613Z
LAST-MODIFIED:20240419T104613Z
UID:10000095-1550192400-1550278799@aiea.it
SUMMARY:Sessione di Studio - Torino
DESCRIPTION:
URL:https://aiea.it/evento/sessione-di-studio-torino-19/
LOCATION:Collegio Univeristario Renato Einaudi – Sezione Crocetta\, Corso Lione 24\, Torino\, 10141\, Italia
CATEGORIES:Sessioni di Studio
END:VEVENT
END:VCALENDAR